BEGIN:VCALENDAR
VERSION:2.0
PRODID:-//Gesundheit im Zentrum - ECPv6.15.20//NONSGML v1.0//EN
CALSCALE:GREGORIAN
METHOD:PUBLISH
X-WR-CALNAME:Gesundheit im Zentrum
X-ORIGINAL-URL:https://www.giz-sarstedt.de
X-WR-CALDESC:Veranstaltungen für Gesundheit im Zentrum
REFRESH-INTERVAL;VALUE=DURATION:PT1H
X-Robots-Tag:noindex
X-PUBLISHED-TTL:PT1H
BEGIN:VTIMEZONE
TZID:Europe/Berlin
BEGIN:DAYLIGHT
TZOFFSETFROM:+0100
TZOFFSETTO:+0200
TZNAME:CEST
DTSTART:20250330T010000
END:DAYLIGHT
BEGIN:STANDARD
TZOFFSETFROM:+0200
TZOFFSETTO:+0100
TZNAME:CET
DTSTART:20251026T010000
END:STANDARD
BEGIN:DAYLIGHT
TZOFFSETFROM:+0100
TZOFFSETTO:+0200
TZNAME:CEST
DTSTART:20260329T010000
END:DAYLIGHT
BEGIN:STANDARD
TZOFFSETFROM:+0200
TZOFFSETTO:+0100
TZNAME:CET
DTSTART:20261025T010000
END:STANDARD
BEGIN:DAYLIGHT
TZOFFSETFROM:+0100
TZOFFSETTO:+0200
TZNAME:CEST
DTSTART:20270328T010000
END:DAYLIGHT
BEGIN:STANDARD
TZOFFSETFROM:+0200
TZOFFSETTO:+0100
TZNAME:CET
DTSTART:20271031T010000
END:STANDARD
END:VTIMEZONE
BEGIN:VEVENT
DTSTART;TZID=Europe/Berlin:20260528T190000
DTEND;TZID=Europe/Berlin:20260528T203000
DTSTAMP:20260421T145310
CREATED:20260412T174847Z
LAST-MODIFIED:20260412T174847Z
UID:10004703-1779994800-1780000200@www.giz-sarstedt.de
SUMMARY:Du als Vater
DESCRIPTION:Vater werden passiert. Vater sein ist eine Entscheidung. \nIch begleite Dich als Vater dabei\, Deine Rolle bewusst zu leben und eine echte Verbindung zu Deinem Kind und Deiner Familie aufzubauen. \nWorum es wirklich geht: \nFehlt Dir im Alltag manchmal die echte Präsenz? Wünscht Du Dir eine klare Kommunikation in der Familie? Und ein stabiles Fundament\, auf das Ihr Euch verlassen könnt? \nIn diesem Kurs geht es nicht um Theorie. Es geht um Dich. \nDu gewinnst Klarheit über Deine Verantwortung als Vater\, Deinen Umgang mit Zeit und Deine Wirkung im Alltag. \nWer bist Du als Vater wirklich? Wie bist Du es wirklich? Verlierst Du oft den Blick für Dich? Wo stehst Du gerade? \nDein Raum für ehrliche Antworten zwischen Alltag und Verantwortung. \nVier Abende. Vier Fragen. Ein klarer Rahmen für echte Reflektion und neue Perspektiven für Deinen Alltag als Vater. \n4 Abende\, donnerstags ab 28. Mai 2026\, 19.00 bis 20.30 Uhr \nKursgebühr 179\,- Euro pro Person inkl. Materialien und alkoholfreier Getränke (Mindesteilnehmerzahl 5\, maximal 12 teilnehmende Väter) \nAnmeldung über Thomas Lesnicki\, info@deinlebenistzeit.de\, Tel. 0171-6506104
URL:https://www.giz-sarstedt.de/event/du-als-vater/2026-05-28/
LOCATION:GiZ Sarstedt
END:VEVENT
END:VCALENDAR